BEGIN:VCALENDAR
VERSION:2.0
PRODID:SchoolNow
CALSCALE:GREGORIAN
BEGIN:VEVENT
UID:5276d4d0-1fa8-11f0-a5cb-0a58a9feac02
DTSTAMP:20250422T183344Z
SUMMARY:No School
URL;VALUE=URI:https://www.hudsonvillepublicschools.org/forestgrove/calendar
 /7984132/no-school
DTSTART;VALUE=DATE:20250822
DTEND;VALUE=DATE:20250823
END:VEVENT
END:VCALENDAR
