BEGIN:VCALENDAR
VERSION:2.0
PRODID:SchoolNow
CALSCALE:GREGORIAN
BEGIN:VEVENT
UID:f870ca30-9ea3-11ee-a84b-0a58a9feac02
DTSTAMP:20231219T192238Z
SUMMARY:No School
URL;VALUE=URI:https://www.hudsonvillepublicschools.org/forestgrove/calendar
 /5026916/no-school
DTSTART:20240902T164500Z
DTEND:20240902T174500Z
END:VEVENT
END:VCALENDAR
