BEGIN:VCALENDAR
VERSION:2.0
PRODID:SchoolNow
CALSCALE:GREGORIAN
BEGIN:VEVENT
UID:bb8177dc-9ea3-11ee-a316-0a58a9feac02
DTSTAMP:20231219T192055Z
SUMMARY:Thanksgiving Break
URL;VALUE=URI:https://www.hudsonvillepublicschools.org/forestgrove/calendar
 /5026882/thanksgiving-break
DTSTART:20241127T174700Z
DTEND:20241129T184700Z
END:VEVENT
END:VCALENDAR
