BEGIN:VCALENDAR
VERSION:2.0
PRODID:SchoolNow
CALSCALE:GREGORIAN
BEGIN:VEVENT
UID:5ac7e750-9ea3-11ee-b0a7-0a58a9feac02
DTSTAMP:20231219T191813Z
SUMMARY:Early Release
URL;VALUE=URI:https://www.hudsonvillepublicschools.org/forestgrove/calendar
 /5026817/early-release
DTSTART:20250314T165100Z
DTEND:20250314T175100Z
END:VEVENT
END:VCALENDAR
