BEGIN:VCALENDAR
VERSION:2.0
PRODID:SchoolNow
CALSCALE:GREGORIAN
BEGIN:VEVENT
UID:53eeb958-a456-11f0-806a-0ec2c2f3dc57
DTSTAMP:20260421T050507Z
SUMMARY:Indoor Track Open
URL;VALUE=URI:https://www.hudsonvillepublicschools.org/communityed/calendar
 /8705950/indoor-track-open
DTSTART:20260313T094500Z
DTEND:20260313T111500Z
END:VEVENT
END:VCALENDAR
