BEGIN:VCALENDAR
VERSION:2.0
PRODID:SchoolNow
CALSCALE:GREGORIAN
BEGIN:VEVENT
UID:53eeb87c-a456-11f0-8a00-0ec2c2f3dc57
DTSTAMP:20260421T050507Z
SUMMARY:Indoor Track Open
URL;VALUE=URI:https://www.hudsonvillepublicschools.org/communityed/calendar
 /8705949/indoor-track-open
DTSTART:20260311T094500Z
DTEND:20260311T111500Z
END:VEVENT
END:VCALENDAR
