BEGIN:VCALENDAR
VERSION:2.0
PRODID:SchoolNow
CALSCALE:GREGORIAN
BEGIN:VEVENT
UID:53eeb6c4-a456-11f0-967f-0ec2c2f3dc57
DTSTAMP:20260421T050507Z
SUMMARY:Indoor Track Open
URL;VALUE=URI:https://www.hudsonvillepublicschools.org/communityed/calendar
 /8705947/indoor-track-open
DTSTART:20260306T104500Z
DTEND:20260306T121500Z
END:VEVENT
END:VCALENDAR
