BEGIN:VCALENDAR
VERSION:2.0
PRODID:SchoolNow
CALSCALE:GREGORIAN
BEGIN:VEVENT
UID:53eeb19c-a456-11f0-a659-0ec2c2f3dc57
DTSTAMP:20260421T050507Z
SUMMARY:Indoor Track Open
URL;VALUE=URI:https://www.hudsonvillepublicschools.org/communityed/calendar
 /8705941/indoor-track-open
DTSTART:20260220T104500Z
DTEND:20260220T121500Z
END:VEVENT
END:VCALENDAR
