BEGIN:VCALENDAR
VERSION:2.0
PRODID:SchoolNow
CALSCALE:GREGORIAN
BEGIN:VEVENT
UID:53eeae40-a456-11f0-ba78-0ec2c2f3dc57
DTSTAMP:20260421T050507Z
SUMMARY:Indoor Track Open
URL;VALUE=URI:https://www.hudsonvillepublicschools.org/communityed/calendar
 /8705937/indoor-track-open
DTSTART:20260211T104500Z
DTEND:20260211T121500Z
END:VEVENT
END:VCALENDAR
