BEGIN:VCALENDAR
VERSION:2.0
PRODID:SchoolNow
CALSCALE:GREGORIAN
BEGIN:VEVENT
UID:53eeabac-a456-11f0-90eb-0ec2c2f3dc57
DTSTAMP:20260421T050507Z
SUMMARY:Indoor Track Open
URL;VALUE=URI:https://www.hudsonvillepublicschools.org/communityed/calendar
 /8705934/indoor-track-open
DTSTART:20260202T104500Z
DTEND:20260202T121500Z
END:VEVENT
END:VCALENDAR
