BEGIN:VCALENDAR
VERSION:2.0
PRODID:SchoolNow
CALSCALE:GREGORIAN
BEGIN:VEVENT
UID:53eea15c-a456-11f0-922a-0ec2c2f3dc57
DTSTAMP:20260421T050507Z
SUMMARY:Indoor Track Open
URL;VALUE=URI:https://www.hudsonvillepublicschools.org/communityed/calendar
 /8705922/indoor-track-open
DTSTART:20260105T104500Z
DTEND:20260105T121500Z
END:VEVENT
END:VCALENDAR
