BEGIN:VCALENDAR
VERSION:2.0
PRODID:SchoolNow
CALSCALE:GREGORIAN
BEGIN:VEVENT
UID:e68f1116-b737-11ef-8586-0e7b8e2ac4f5
DTSTAMP:20250209T224007Z
SUMMARY:Open Gym
LOCATION:Hudsonville High School\, 5155 32nd Ave\, Hudsonville\, MI 49426\,
  USA
URL;VALUE=URI:https://www.hudsonvillepublicschools.org/communityed/calendar
 /7151441/open-gym
DTSTART:20251112T103000Z
DTEND:20251112T120000Z
END:VEVENT
END:VCALENDAR
