BEGIN:VCALENDAR
VERSION:2.0
PRODID:SchoolNow
CALSCALE:GREGORIAN
BEGIN:VEVENT
UID:e68ee6c8-b737-11ef-904a-0e7b8e2ac4f5
DTSTAMP:20250209T224007Z
SUMMARY:Open Gym
LOCATION:Hudsonville High School\, 5155 32nd Ave\, Hudsonville\, MI 49426\,
  USA
URL;VALUE=URI:https://www.hudsonvillepublicschools.org/communityed/calendar
 /7151431/open-gym
DTSTART:20251020T093000Z
DTEND:20251020T110000Z
END:VEVENT
END:VCALENDAR
