BEGIN:VCALENDAR
VERSION:2.0
PRODID:SchoolNow
CALSCALE:GREGORIAN
BEGIN:VEVENT
UID:e62a396c-b737-11ef-9331-0e7b8e2ac4f5
DTSTAMP:20250209T224007Z
SUMMARY:Open Gym
LOCATION:Hudsonville High School\, 5155 32nd Ave\, Hudsonville\, MI 49426\,
  USA
URL;VALUE=URI:https://www.hudsonvillepublicschools.org/communityed/calendar
 /7151420/open-gym
DTSTART:20250924T093000Z
DTEND:20250924T110000Z
END:VEVENT
END:VCALENDAR
