BEGIN:VCALENDAR
VERSION:2.0
PRODID:SchoolNow
CALSCALE:GREGORIAN
BEGIN:VEVENT
UID:e62a06d6-b737-11ef-b608-0e7b8e2ac4f5
DTSTAMP:20250209T224007Z
SUMMARY:Open Gym
LOCATION:Hudsonville High School\, 5155 32nd Ave\, Hudsonville\, MI 49426\,
  USA
URL;VALUE=URI:https://www.hudsonvillepublicschools.org/communityed/calendar
 /7151368/open-gym
DTSTART:20250416T093000Z
DTEND:20250416T110000Z
END:VEVENT
END:VCALENDAR
