BEGIN:VCALENDAR
VERSION:2.0
PRODID:SchoolNow
CALSCALE:GREGORIAN
BEGIN:VEVENT
UID:e629e548-b737-11ef-ac9f-0e7b8e2ac4f5
DTSTAMP:20250209T224007Z
SUMMARY:Open Gym
LOCATION:Hudsonville High School\, 5155 32nd Ave\, Hudsonville\, MI 49426\,
  USA
URL;VALUE=URI:https://www.hudsonvillepublicschools.org/communityed/calendar
 /7151339/open-gym
DTSTART:20250127T103000Z
DTEND:20250127T120000Z
END:VEVENT
END:VCALENDAR
