BEGIN:VCALENDAR
VERSION:2.0
PRODID:SchoolNow
CALSCALE:GREGORIAN
BEGIN:VEVENT
UID:be23741e-0e96-11ef-87fb-0affe5ba3d2b
DTSTAMP:20240510T063006Z
SUMMARY:Boys Baldwin Middle School Tennis - Creekside Middle School
LOCATION:Creekside Middle School\, 179 W Roosevelt Ave\, Zeeland\, MI 49464
URL;VALUE=URI:https://www.hudsonvillepublicschools.org/baldwinstreet/athlet
 ics/calendar/5946285/boys-baldwin-middle-school-tennis-creekside-middle-sc
 hool
DTSTART:20240516T200000Z
DTEND:20240516T210000Z
END:VEVENT
END:VCALENDAR
