BEGIN:VCALENDAR
VERSION:2.0
PRODID:SchoolNow
CALSCALE:GREGORIAN
BEGIN:VEVENT
UID:be2346f6-0e96-11ef-812e-0affe5ba3d2b
DTSTAMP:20240510T063006Z
SUMMARY:Boys Baldwin Middle School Tennis - Grandville Middle School
LOCATION:Baldwin Street Middle School\, 5155 32nd Ave\, Hudsonville\, MI 49
 426
URL;VALUE=URI:https://www.hudsonvillepublicschools.org/baldwinstreet/athlet
 ics/calendar/5946284/boys-baldwin-middle-school-tennis-grandville-middle-s
 chool
DTSTART:20240514T200000Z
DTEND:20240514T210000Z
END:VEVENT
END:VCALENDAR
