BEGIN:VCALENDAR
VERSION:2.0
PRODID:SchoolNow
CALSCALE:GREGORIAN
BEGIN:VEVENT
UID:be0a2a2c-0e96-11ef-b408-0affc743684b
DTSTAMP:20240510T063006Z
SUMMARY:Girls 7th Grade Soccer @ Cityside Middle School
LOCATION:Zeeland Public Schools Transportation\, 720 E Main Ave\, Zeeland\,
  MI 49464
URL;VALUE=URI:https://www.hudsonvillepublicschools.org/baldwinstreet/athlet
 ics/calendar/5946273/girls-7th-grade-soccer-cityside-middle-school
DTSTART:20240515T200000Z
DTEND:20240515T210000Z
END:VEVENT
END:VCALENDAR
