BEGIN:VCALENDAR
VERSION:2.0
PRODID:SchoolNow
CALSCALE:GREGORIAN
BEGIN:VEVENT
UID:0b71940e-0e96-11ef-ac44-0a58a9feac02
DTSTAMP:20240510T062507Z
SUMMARY:Baldwin Middle School Track - Forest Hills Central Middle School
LOCATION:Forest Hills Central Middle School\, 5810 Ada Dr SE\, Ada\, MI 493
 01
URL;VALUE=URI:https://www.hudsonvillepublicschools.org/baldwinstreet/athlet
 ics/calendar/5946268/baldwin-middle-school-track-forest-hills-central-midd
 le-school
DTSTART:20240514T201500Z
DTEND:20240514T211500Z
END:VEVENT
END:VCALENDAR
