BEGIN:VCALENDAR
VERSION:2.0
PRODID:SchoolNow
CALSCALE:GREGORIAN
BEGIN:VEVENT
UID:d2c93ecc-f040-11ee-9342-027a2b64e23b
DTSTAMP:20240510T062507Z
SUMMARY:Baldwin Middle School Track - Zeeland Invite
LOCATION:Zeeland Football Stadium\, 9900 Riley St\, Zeeland\, MI 49464
URL;VALUE=URI:https://www.hudsonvillepublicschools.org/baldwinstreet/athlet
 ics/calendar/5682766/baldwin-middle-school-track-zeeland-invite
DTSTART:20240522T201500Z
DTEND:20240522T211500Z
END:VEVENT
END:VCALENDAR
