BEGIN:VCALENDAR
VERSION:2.0
PRODID:SchoolNow
CALSCALE:GREGORIAN
BEGIN:VEVENT
UID:d2c92c34-f040-11ee-8225-027a2b64e23b
DTSTAMP:20240510T062507Z
SUMMARY:Baldwin Middle School Track - CONFERENCE MEET
LOCATION:Allendale HS\, 10760 68th Ave\, Allendale\, MI 49401
URL;VALUE=URI:https://www.hudsonvillepublicschools.org/baldwinstreet/athlet
 ics/calendar/5682765/baldwin-middle-school-track-conference-meet
DTSTART:20240515T201500Z
DTEND:20240515T211500Z
END:VEVENT
END:VCALENDAR
