BEGIN:VCALENDAR
VERSION:2.0
PRODID:SchoolNow
CALSCALE:GREGORIAN
BEGIN:VEVENT
UID:d2c8fdb8-f040-11ee-abfb-027a2b64e23b
DTSTAMP:20240510T062507Z
SUMMARY:Baldwin Middle School Track - Forest Hills Central Middle School
LOCATION:Forest Hills Central Middle School\, 5810 Ada Dr SE\, Ada\, MI 493
 01
URL;VALUE=URI:https://www.hudsonvillepublicschools.org/baldwinstreet/athlet
 ics/calendar/5682763/baldwin-middle-school-track-forest-hills-central-midd
 le-school
DTSTART:20240507T201500Z
DTEND:20240507T211500Z
END:VEVENT
END:VCALENDAR
