BEGIN:VCALENDAR
VERSION:2.0
PRODID:SchoolNow
CALSCALE:GREGORIAN
BEGIN:VEVENT
UID:d2c8e288-f040-11ee-b72e-027a2b64e23b
DTSTAMP:20240510T062507Z
SUMMARY:Baldwin Middle School Track - Coopersville MS
LOCATION:Coopersville HS\, 198 East St\, Coopersville\, MI 49404
URL;VALUE=URI:https://www.hudsonvillepublicschools.org/baldwinstreet/athlet
 ics/calendar/5682762/baldwin-middle-school-track-coopersville-ms
DTSTART:20240506T201500Z
DTEND:20240506T211500Z
END:VEVENT
END:VCALENDAR
