BEGIN:VCALENDAR
VERSION:2.0
PRODID:SchoolNow
CALSCALE:GREGORIAN
BEGIN:VEVENT
UID:d2c8cdfc-f040-11ee-a967-027a2b64e23b
DTSTAMP:20240510T062507Z
SUMMARY:Baldwin Middle School Track - Allendale Middle School
LOCATION:Allendale HS\, 10760 68th Ave\, Allendale\, MI 49401
URL;VALUE=URI:https://www.hudsonvillepublicschools.org/baldwinstreet/athlet
 ics/calendar/5682761/baldwin-middle-school-track-allendale-middle-school
DTSTART:20240429T201500Z
DTEND:20240429T211500Z
END:VEVENT
END:VCALENDAR
