BEGIN:VCALENDAR
VERSION:2.0
PRODID:SchoolNow
CALSCALE:GREGORIAN
BEGIN:VEVENT
UID:d2c8ad90-f040-11ee-95f0-027a2b64e23b
DTSTAMP:20240510T062507Z
SUMMARY:Baldwin Middle School Track - Jenison Junior High School
LOCATION:Baldwin Street Middle School\, 5155 32nd Ave\, Hudsonville\, MI 49
 426
URL;VALUE=URI:https://www.hudsonvillepublicschools.org/baldwinstreet/athlet
 ics/calendar/5682760/baldwin-middle-school-track-jenison-junior-high-schoo
 l
DTSTART:20240424T201500Z
DTEND:20240424T211500Z
END:VEVENT
END:VCALENDAR
