BEGIN:VCALENDAR
VERSION:2.0
PRODID:SchoolNow
CALSCALE:GREGORIAN
BEGIN:VEVENT
UID:d2c88a54-f040-11ee-8aa4-027a2b64e23b
DTSTAMP:20240510T062507Z
SUMMARY:Baldwin Middle School Track - Riley Street Middle School
LOCATION:Baldwin Street Middle School\, 5155 32nd Ave\, Hudsonville\, MI 49
 426
URL;VALUE=URI:https://www.hudsonvillepublicschools.org/baldwinstreet/athlet
 ics/calendar/5682759/baldwin-middle-school-track-riley-street-middle-schoo
 l
DTSTART:20240422T201500Z
DTEND:20240422T211500Z
END:VEVENT
END:VCALENDAR
