BEGIN:VCALENDAR
VERSION:2.0
PRODID:SchoolNow
CALSCALE:GREGORIAN
BEGIN:VEVENT
UID:d2c86d62-f040-11ee-aae0-027a2b64e23b
DTSTAMP:20240510T062507Z
SUMMARY:Baldwin Middle School Track - Grandville Middle School
LOCATION:Baldwin Street Middle School\, 5155 32nd Ave\, Hudsonville\, MI 49
 426
URL;VALUE=URI:https://www.hudsonvillepublicschools.org/baldwinstreet/athlet
 ics/calendar/5682757/baldwin-middle-school-track-grandville-middle-school
DTSTART:20240415T201500Z
DTEND:20240415T211500Z
END:VEVENT
END:VCALENDAR
