BEGIN:VCALENDAR
VERSION:2.0
PRODID:SchoolNow
CALSCALE:GREGORIAN
BEGIN:VEVENT
UID:b41b9772-f040-11ee-b79d-0a58a9feac02
DTSTAMP:20240510T063007Z
SUMMARY:Boys Baldwin Middle School Tennis - Holland Middle School
LOCATION:Baldwin Street Middle School\, 5155 32nd Ave\, Hudsonville\, MI 49
 426
URL;VALUE=URI:https://www.hudsonvillepublicschools.org/baldwinstreet/athlet
 ics/calendar/5682756/boys-baldwin-middle-school-tennis-holland-middle-scho
 ol
DTSTART:20240409T200000Z
DTEND:20240409T210000Z
END:VEVENT
END:VCALENDAR
