BEGIN:VCALENDAR
VERSION:2.0
PRODID:SchoolNow
CALSCALE:GREGORIAN
BEGIN:VEVENT
UID:9e0b7c7c-f040-11ee-a259-0e5b423db2b3
DTSTAMP:20240510T063006Z
SUMMARY:Girls 7th Grade Soccer vs. Zeeland Christian Middle School
LOCATION:Riley Street Middle School\, 5155 32nd Ave\, Hudsonville\, MI 4942
 6
URL;VALUE=URI:https://www.hudsonvillepublicschools.org/baldwinstreet/athlet
 ics/calendar/5682755/girls-7th-grade-soccer-vs-zeeland-christian-middle-sc
 hool
DTSTART:20240516T200000Z
DTEND:20240516T210000Z
END:VEVENT
END:VCALENDAR
