BEGIN:VCALENDAR
VERSION:2.0
PRODID:SchoolNow
CALSCALE:GREGORIAN
BEGIN:VEVENT
UID:9e0b51ac-f040-11ee-90dc-0e5b423db2b3
DTSTAMP:20240510T063006Z
SUMMARY:Girls 7th Grade Soccer @ Cityside Middle School
LOCATION:Zeeland Public Schools Transportation\, 720 E Main Ave\, Zeeland\,
  MI 49464
URL;VALUE=URI:https://www.hudsonvillepublicschools.org/baldwinstreet/athlet
 ics/calendar/5682752/girls-7th-grade-soccer-cityside-middle-school
DTSTART:20240507T200000Z
DTEND:20240507T210000Z
END:VEVENT
END:VCALENDAR
