BEGIN:VCALENDAR
VERSION:2.0
PRODID:SchoolNow
CALSCALE:GREGORIAN
BEGIN:VEVENT
UID:9e0ae9f6-f040-11ee-bc60-0e5b423db2b3
DTSTAMP:20240510T063006Z
SUMMARY:Girls 7th Grade Soccer vs. West Ottawa
LOCATION:Riley Street Middle School\, 5155 32nd Ave\, Hudsonville\, MI 4942
 6
URL;VALUE=URI:https://www.hudsonvillepublicschools.org/baldwinstreet/athlet
 ics/calendar/5682746/girls-7th-grade-soccer-vs-west-ottawa
DTSTART:20240411T200000Z
DTEND:20240411T210000Z
END:VEVENT
END:VCALENDAR
