BEGIN:VCALENDAR
VERSION:2.0
PRODID:SchoolNow
CALSCALE:GREGORIAN
BEGIN:VEVENT
UID:75ba60c6-f040-11ee-aa43-0a58a9feac02
DTSTAMP:20240510T063006Z
SUMMARY:Girls 8th Grade Soccer vs. Holland Middle School
LOCATION:Riley Street Middle School\, 5155 32nd Ave\, Hudsonville\, MI 4942
 6
URL;VALUE=URI:https://www.hudsonvillepublicschools.org/baldwinstreet/athlet
 ics/calendar/5682741/girls-8th-grade-soccer-vs-holland-middle-school
DTSTART:20240502T213000Z
DTEND:20240502T223000Z
END:VEVENT
END:VCALENDAR
