BEGIN:VCALENDAR
VERSION:2.0
PRODID:SchoolNow
CALSCALE:GREGORIAN
BEGIN:VEVENT
UID:75b9f2ee-f040-11ee-b4d6-0a58a9feac02
DTSTAMP:20240510T063006Z
SUMMARY:Girls 8th Grade Soccer vs. West Ottawa
LOCATION:Riley Street Middle School\, 5155 32nd Ave\, Hudsonville\, MI 4942
 6
URL;VALUE=URI:https://www.hudsonvillepublicschools.org/baldwinstreet/athlet
 ics/calendar/5682735/girls-8th-grade-soccer-vs-west-ottawa
DTSTART:20240411T213000Z
DTEND:20240411T223000Z
END:VEVENT
END:VCALENDAR
