BEGIN:VCALENDAR
VERSION:2.0
PRODID:SchoolNow
CALSCALE:GREGORIAN
BEGIN:VEVENT
UID:75b9df98-f040-11ee-a8a9-0a58a9feac02
DTSTAMP:20240510T063006Z
SUMMARY:Girls 8th Grade Soccer vs. Holland Christian Middle School
LOCATION:Riley Street Middle School\, 5155 32nd Ave\, Hudsonville\, MI 4942
 6
URL;VALUE=URI:https://www.hudsonvillepublicschools.org/baldwinstreet/athlet
 ics/calendar/5682734/girls-8th-grade-soccer-vs-holland-christian-middle-sc
 hool
DTSTART:20240409T200000Z
DTEND:20240409T210000Z
END:VEVENT
END:VCALENDAR
