BEGIN:VCALENDAR
VERSION:2.0
PRODID:SchoolNow
CALSCALE:GREGORIAN
BEGIN:VEVENT
UID:fb57b61a-0de0-11ec-b917-0a875045c849
DTSTAMP:20210905T003408Z
SUMMARY:Cross Country MKO Invitational at West Ottawa
URL;VALUE=URI:https://www.hudsonvillepublicschools.org/baldwinstreet/athlet
 ics/calendar/2708420/cross-country-mko-invitational-at-west-ottawa
DTSTART:20211013T200000Z
DTEND:20211013T230000Z
END:VEVENT
END:VCALENDAR
