BEGIN:VCALENDAR
VERSION:2.0
PRODID:SchoolNow
CALSCALE:GREGORIAN
BEGIN:VEVENT
UID:b2579926-0de0-11ec-bea2-0a875045c849
DTSTAMP:20210905T003205Z
SUMMARY:Cross Country at Portage Invitational
URL;VALUE=URI:https://www.hudsonvillepublicschools.org/baldwinstreet/athlet
 ics/calendar/2708419/cross-country-at-portage-invitational
DTSTART:20211009T150000Z
DTEND:20211009T180000Z
END:VEVENT
END:VCALENDAR
