BEGIN:VCALENDAR
VERSION:2.0
PRODID:SchoolNow
CALSCALE:GREGORIAN
BEGIN:VEVENT
UID:468ddc32-0de0-11ec-a443-0a875045c849
DTSTAMP:20210905T002904Z
SUMMARY:Cross Country at Reeths Puffer
URL;VALUE=URI:https://www.hudsonvillepublicschools.org/baldwinstreet/athlet
 ics/calendar/2708418/cross-country-at-reeths-puffer
DTSTART:20211006T200000Z
DTEND:20211006T220000Z
END:VEVENT
END:VCALENDAR
