BEGIN:VCALENDAR
VERSION:2.0
PRODID:SchoolNow
CALSCALE:GREGORIAN
BEGIN:VEVENT
UID:dc905fee-0ddf-11ec-b929-0a875045c849
DTSTAMP:20210905T002607Z
SUMMARY:Cross Country at Unity High School
URL;VALUE=URI:https://www.hudsonvillepublicschools.org/baldwinstreet/athlet
 ics/calendar/2708417/cross-country-at-unity-high-school
DTSTART:20210929T200000Z
DTEND:20210929T220000Z
END:VEVENT
END:VCALENDAR
