BEGIN:VCALENDAR
VERSION:2.0
PRODID:SchoolNow
CALSCALE:GREGORIAN
BEGIN:VEVENT
UID:a765ff2c-0ddf-11ec-a7f2-0a875045c849
DTSTAMP:20210905T002437Z
SUMMARY:Cross Country at Zeeland Dux Dash
URL;VALUE=URI:https://www.hudsonvillepublicschools.org/baldwinstreet/athlet
 ics/calendar/2708416/cross-country-at-zeeland-dux-dash
DTSTART:20210925T130000Z
DTEND:20210925T160000Z
END:VEVENT
END:VCALENDAR
