BEGIN:VCALENDAR
VERSION:2.0
PRODID:SchoolNow
CALSCALE:GREGORIAN
BEGIN:VEVENT
UID:7ec59014-0ddf-11ec-b9f0-0a875045c849
DTSTAMP:20210905T002329Z
SUMMARY:Cross Country at Grand Haven
URL;VALUE=URI:https://www.hudsonvillepublicschools.org/baldwinstreet/athlet
 ics/calendar/2708415/cross-country-at-grand-haven
DTSTART:20210922T200000Z
DTEND:20210922T220000Z
END:VEVENT
END:VCALENDAR
