BEGIN:VCALENDAR
VERSION:2.0
PRODID:SchoolNow
CALSCALE:GREGORIAN
BEGIN:VEVENT
UID:2e32f704-0ddf-11ec-b7fc-0a875045c849
DTSTAMP:20210905T002114Z
SUMMARY:Cross Country at Hamilton
URL;VALUE=URI:https://www.hudsonvillepublicschools.org/baldwinstreet/athlet
 ics/calendar/2708378/cross-country-at-hamilton
DTSTART:20210914T200000Z
DTEND:20210914T220000Z
END:VEVENT
END:VCALENDAR
