BEGIN:VCALENDAR
VERSION:2.0
PRODID:SchoolNow
CALSCALE:GREGORIAN
BEGIN:VEVENT
UID:fe7d8236-0dde-11ec-8e73-0a875045c849
DTSTAMP:20210905T001954Z
SUMMARY:Cross Country at WO Bredeweg Invitational
URL;VALUE=URI:https://www.hudsonvillepublicschools.org/baldwinstreet/athlet
 ics/calendar/2708377/cross-country-at-wo-bredeweg-invitational
DTSTART:20210911T150000Z
DTEND:20210911T170000Z
END:VEVENT
END:VCALENDAR
