BEGIN:VCALENDAR
VERSION:2.0
PRODID:SchoolNow
CALSCALE:GREGORIAN
BEGIN:VEVENT
UID:a5d72e2a-0dde-11ec-8a34-0a875045c849
DTSTAMP:20210905T001725Z
SUMMARY:Cross Country at Mona Shores
URL;VALUE=URI:https://www.hudsonvillepublicschools.org/baldwinstreet/athlet
 ics/calendar/2708376/cross-country-at-mona-shores
DTSTART:20210909T200000Z
DTEND:20210909T220000Z
END:VEVENT
END:VCALENDAR
