BEGIN:VCALENDAR
VERSION:2.0
PRODID:SchoolNow
CALSCALE:GREGORIAN
BEGIN:VEVENT
UID:7392537c-0dde-11ec-95ff-0a875045c849
DTSTAMP:20210905T001601Z
SUMMARY:Eagle Select Volleyball at Riley vs. Jenison
URL;VALUE=URI:https://www.hudsonvillepublicschools.org/baldwinstreet/athlet
 ics/calendar/2708375/eagle-select-volleyball-at-riley-vs-jenison
DTSTART:20211014T200000Z
DTEND:20211014T230000Z
END:VEVENT
END:VCALENDAR
