BEGIN:VCALENDAR
VERSION:2.0
PRODID:SchoolNow
CALSCALE:GREGORIAN
BEGIN:VEVENT
UID:468d7a00-0dde-11ec-b870-0a875045c849
DTSTAMP:20210905T001445Z
SUMMARY:Eagle Select at Mona Shores
URL;VALUE=URI:https://www.hudsonvillepublicschools.org/baldwinstreet/athlet
 ics/calendar/2708374/eagle-select-at-mona-shores
DTSTART:20211012T200000Z
DTEND:20211012T230000Z
END:VEVENT
END:VCALENDAR
