BEGIN:VCALENDAR
VERSION:2.0
PRODID:SchoolNow
CALSCALE:GREGORIAN
BEGIN:VEVENT
UID:8aedfb80-0ddd-11ec-a4ab-0a875045c849
DTSTAMP:20210905T000931Z
SUMMARY:Eagle Select Volleyball at Baldwin vs. Muskegon
URL;VALUE=URI:https://www.hudsonvillepublicschools.org/baldwinstreet/athlet
 ics/calendar/2708370/eagle-select-volleyball-at-baldwin-vs-muskegon
DTSTART:20210930T200000Z
DTEND:20210930T230000Z
END:VEVENT
END:VCALENDAR
