BEGIN:VCALENDAR
VERSION:2.0
PRODID:SchoolNow
CALSCALE:GREGORIAN
BEGIN:VEVENT
UID:cdf96334-0ddc-11ec-ae34-0a054cf4f871
DTSTAMP:20210905T000414Z
SUMMARY:Eagle Select Volleyball
URL;VALUE=URI:https://www.hudsonvillepublicschools.org/baldwinstreet/athlet
 ics/calendar/2708369/eagle-select-volleyball
DTSTART:20210928T200000Z
DTEND:20210928T230000Z
END:VEVENT
END:VCALENDAR
