BEGIN:VCALENDAR
VERSION:2.0
PRODID:SchoolNow
CALSCALE:GREGORIAN
BEGIN:VEVENT
UID:900ddac8-0ddc-11ec-a717-0a054cf4f871
DTSTAMP:20210905T000230Z
SUMMARY:Eagle Select Volleyball at Baldwin vs. Grandville
URL;VALUE=URI:https://www.hudsonvillepublicschools.org/baldwinstreet/athlet
 ics/calendar/2708198/eagle-select-volleyball-at-baldwin-vs-grandville
DTSTART:20210923T200000Z
DTEND:20210923T230000Z
END:VEVENT
END:VCALENDAR
