BEGIN:VCALENDAR
VERSION:2.0
PRODID:SchoolNow
CALSCALE:GREGORIAN
BEGIN:VEVENT
UID:94b77f0e-0dda-11ec-83f1-0eda2305e67b
DTSTAMP:20210904T234819Z
SUMMARY:Eagle Select Volleyball at Valleywood
URL;VALUE=URI:https://www.hudsonvillepublicschools.org/baldwinstreet/athlet
 ics/calendar/2707831/eagle-select-volleyball-at-valleywood
DTSTART:20210914T200000Z
DTEND:20210914T230000Z
END:VEVENT
END:VCALENDAR
